BEGIN:VCALENDAR
VERSION:2.0
PRODID:-//Welcome to the Lower Merion Historical Society - ECPv6.15.14//NONSGML v1.0//EN
CALSCALE:GREGORIAN
METHOD:PUBLISH
X-ORIGINAL-URL:https://lowermerionhistory.org
X-WR-CALDESC:Events for Welcome to the Lower Merion Historical Society
REFRESH-INTERVAL;VALUE=DURATION:PT1H
X-Robots-Tag:noindex
X-PUBLISHED-TTL:PT1H
BEGIN:VTIMEZONE
TZID:America/New_York
BEGIN:DAYLIGHT
TZOFFSETFROM:-0500
TZOFFSETTO:-0400
TZNAME:EDT
DTSTART:20240310T070000
END:DAYLIGHT
BEGIN:STANDARD
TZOFFSETFROM:-0400
TZOFFSETTO:-0500
TZNAME:EST
DTSTART:20241103T060000
END:STANDARD
BEGIN:DAYLIGHT
TZOFFSETFROM:-0500
TZOFFSETTO:-0400
TZNAME:EDT
DTSTART:20250309T070000
END:DAYLIGHT
BEGIN:STANDARD
TZOFFSETFROM:-0400
TZOFFSETTO:-0500
TZNAME:EST
DTSTART:20251102T060000
END:STANDARD
BEGIN:DAYLIGHT
TZOFFSETFROM:-0500
TZOFFSETTO:-0400
TZNAME:EDT
DTSTART:20260308T070000
END:DAYLIGHT
BEGIN:STANDARD
TZOFFSETFROM:-0400
TZOFFSETTO:-0500
TZNAME:EST
DTSTART:20261101T060000
END:STANDARD
BEGIN:DAYLIGHT
TZOFFSETFROM:-0500
TZOFFSETTO:-0400
TZNAME:EDT
DTSTART:20270314T070000
END:DAYLIGHT
BEGIN:STANDARD
TZOFFSETFROM:-0400
TZOFFSETTO:-0500
TZNAME:EST
DTSTART:20271107T060000
END:STANDARD
END:VTIMEZONE
BEGIN:VEVENT
DTSTART;TZID=America/New_York:20250914T110000
DTEND;TZID=America/New_York:20250914T150000
DTSTAMP:20260423T071320
CREATED:20250829T230942Z
LAST-MODIFIED:20250829T230942Z
UID:3985-1757847600-1757862000@lowermerionhistory.org
SUMMARY:Bala Avenue Art Walk
DESCRIPTION:For the third year in a row\, we will sponsor an informational table at the Bala Avenue Art Walk organized by our partner City Ave District\, in collaboration with Bala Avenue of the Arts and Art Star. Most information is available from City Ave District. \nThe Art Walk is on Sunday\, September 14\, 2025\, from 11 a.m. to 3 p.m. The popular community event returns with an open-air celebration of more than 30 local artists\, live music\, food and fun for all ages. \n \n 
URL:https://lowermerionhistory.org/event/bala-avenue-art-walk/
LOCATION:Bala Avenue between Montgomery Avenue and Cynwyd Road\, 225 Bala Ave\, Bala Cynwyd\, PA\, 19004\, United States
ATTACH;FMTTYPE=image/png:https://lowermerionhistory.org/wp-content/uploads/Screenshot-2025-08-29-at-7.08.04-PM-e1756913345715.png
ORGANIZER;CN="City Ave District":MAILTO:cityave@cityave.org
END:VEVENT
BEGIN:VEVENT
DTSTART;TZID=America/New_York:20250927T100000
DTEND;TZID=America/New_York:20250927T160000
DTSTAMP:20260423T071320
CREATED:20250829T232244Z
LAST-MODIFIED:20250905T133325Z
UID:3998-1758967200-1758988800@lowermerionhistory.org
SUMMARY:Harriton Farmstead Fair
DESCRIPTION:We will sponsor an informational table at the 35th Annual Farmstead Fair hosted by the Harriton Association. \nJoin your friends & neighbors for a full day of family friendly entertainment featuring\n• Children’s Games with Pandora• Attic Treasures Sale• Raptor Jawn birds of prey demonstrations• Living Historians• Bluegrass tunes with Summit Hill• Tours of historic Harriton House• Farm Animals• Conshohocken Brewing & Carmona Mobile Foods• Craft vendors• Community Partner information tables• FREE PARKING & FREE ADMISSION\n\n\n\n 
URL:https://lowermerionhistory.org/event/harriton-farmstead-fair/
LOCATION:Harriton House and Park\, 500 Harriton Road\, Bryn Mawr\, PA\, 19010\, United States
ATTACH;FMTTYPE=image/png:https://lowermerionhistory.org/wp-content/uploads/Screenshot-2025-08-29-at-7.21.03-PM.png
ORGANIZER;CN="The Harriton Association":MAILTO:info@harritonhouse.org
END:VEVENT
BEGIN:VEVENT
DTSTART;TZID=America/New_York:20251018T110000
DTEND;TZID=America/New_York:20251018T140000
DTSTAMP:20260423T071320
CREATED:20250923T170334Z
LAST-MODIFIED:20250923T170334Z
UID:4063-1760785200-1760796000@lowermerionhistory.org
SUMMARY:Haverford Civic Association's Party in the Park
DESCRIPTION:We will host an informational table at Party in the Park\, organized by Haverford Civic Association.
URL:https://lowermerionhistory.org/event/haverford-civic-associations-party-in-the-park/
LOCATION:Sharpe Park\, 405 Montgomery Ave\, Haverford\, PA\, 19041\, United States
ATTACH;FMTTYPE=image/jpeg:https://lowermerionhistory.org/wp-content/uploads/table-scaled.jpg
ORGANIZER;CN="Haverford Civic Association":MAILTO:haverfordcivicassociation@gmail.com
END:VEVENT
BEGIN:VEVENT
DTSTART;TZID=America/New_York:20251023T180000
DTEND;TZID=America/New_York:20251023T210000
DTSTAMP:20260423T071320
CREATED:20250912T211841Z
LAST-MODIFIED:20250912T212803Z
UID:4052-1761242400-1761253200@lowermerionhistory.org
SUMMARY:Shaping Our Story: A fundraiser for the Bala Cynwyd Library
DESCRIPTION:Join us in supporting our local libraries! \nShaping our Story is a fundraiser for the Bala Cynwyd Library. The event is an adults-only private evening including delicious dinner and silent auction. During the event\, the Society will share rich information about the history and impact of the Bala Cynwyd Library. \nTickets available here: https://lmls.org/shapingourstory
URL:https://lowermerionhistory.org/event/shaping-our-story-a-fundraiser-for-the-bala-cynwyd-library/
LOCATION:Bala Golf Club Ballroom\, 2200 Belmont Ave\, Philadelphia\, PA\, 19131\, United States
ATTACH;FMTTYPE=image/png:https://lowermerionhistory.org/wp-content/uploads/Shaping_Our_Story.png
ORGANIZER;CN="Bala Cynwyd Library":MAILTO:balacynwydlibrary@lmls.org
END:VEVENT
BEGIN:VEVENT
DTSTART;TZID=America/New_York:20251028T183000
DTEND;TZID=America/New_York:20251028T200000
DTSTAMP:20260423T071320
CREATED:20250810T173712Z
LAST-MODIFIED:20250905T133234Z
UID:3961-1761676200-1761681600@lowermerionhistory.org
SUMMARY:Book talk with Joe Lex\, author of All Bones Considered: 52 Laurel Hill Women
DESCRIPTION:The Lower Merion Historical Society welcomes local author Joe Lex for a discussion about his new book\, “All Bones Considered: 52 Laurel Hill Women – biographical sketches of 52 women of Laurel Hill East and Laurel Hill West.” \nIn 2016\, Joe Lex retired after more than 45 years in emergency medicine. His career began as a combat medic in Vietnam (1968–69)\, followed by years as an ER tech and registered nurse before starting medical school at age 35. He spent 14 years as a community ER doctor\, then 13 years teaching at Temple University in Philadelphia\, where he retired as a professor. Joe became one of the most recognized emergency medicine educators globally\, helping to establish training programs in Poland\, Argentina\, Vietnam\, South Africa\, and Myanmar. Known as the “Godfather of Free Open Access Medical Education\,” he made over a thousand lectures available online. The American Academy of Emergency Medicine renamed its top teaching award the Joe Lex Educator of the Year Award in his honor. \nAfter retirement\, Joe missed research and teaching. He began volunteering as a tour guide at Philadelphia’s Laurel Hill Cemetery\, leading to the podcast All Bones Considered: Laurel Hill Stories\, which features more than 400 residents of Laurel Hill East and West. He later launched Biographical Bytes from Bala to explore lives at Laurel Hill West in Bala Cynwyd. Despite being DIY and low-tech\, his podcasts have been downloaded over 75\,000 times\, placing them in the top 25% globally. \nIn 2024\, Joe adapted some podcast scripts into All Bones Considered: 52 Laurel Hill Women\, highlighting remarkable women who shaped Philadelphia and the world. Meet him LIVE and pick up an autographed copy at this Author Event! \nThe event is free\, please RSVP below. \nAdditional Links: https://linktr.ee/joelex \n \n 
URL:https://lowermerionhistory.org/event/book-talk-with-joe-lex-author-of-all-bones-considered-52-laurel-hill-women/
LOCATION:Lower Merion Historical Society\, 506 Bryn Mawr Avenue\, Bala Cynwyd\, PA\, 19004
ATTACH;FMTTYPE=image/png:https://lowermerionhistory.org/wp-content/uploads/ABC-Banners-1920-x-1080-px-e1754847391143.png
ORGANIZER;CN="Lower Merion Historical Society":MAILTO:info@LowerMerionHistory.org
END:VEVENT
BEGIN:VEVENT
DTSTART;TZID=America/New_York:20251106T190000
DTEND;TZID=America/New_York:20251106T200000
DTSTAMP:20260423T071320
CREATED:20250729T202430Z
LAST-MODIFIED:20250729T202557Z
UID:3926-1762455600-1762459200@lowermerionhistory.org
SUMMARY:Montco Roots- Family and Property History Through Deeds
DESCRIPTION:Join Jeanne Sorg\, Montgomery County Recorder of Deeds as she presents Montco Roots! \nLearn about the different types of documents that are recorded with the Recorder of Deeds office and look at some of the interesting historical details you can find in those documents. \nWe present this event in partnership with Ludington Library. 30 seats are available and pre-registration required: https://lmls.libcal.com/event/15037559 \nAbout Montco Roots: \nJeanne Sorg\, Montgomery County Recorder of Deeds\, will overview the types of documents that are recorded with the Recorder of Deeds office and go through how to use your current deed to begin your journey\, as well as the interesting historical details you can find in the documents recorded in her office. Our records date back to 1784 and are mostly public record. Historical deed research\, and through other documents the Recorder of Deeds stores in perpetuity\, can be a useful tool in learning more about your home and potentially family history. \nJeanne Sorg: \nJeanne Sorg was elected Montgomery County Recorder of Deeds in November 2015 and assumed office in January 2016. Prior to being elected Recorder of Deeds\, Sorg served as a senior advisor to an elected state official. She is currently Mayor of Ambler Borough and serves on the Ambler Main Street Board. As Recorder of Deeds\, Jeanne and her staff have worked to bring the office to the people by creating the Montco Roots program\, partnering with legislators and groups around the county to protect homeowners from fraud\, and expanding the Veterans’ Discount ID Program. Her community outreach initiatives have been used as a guide and resource for other offices. She is humbled to have been called the most active and effective Recorder of Deeds for Veterans by the PA Department of Military & Veterans Affairs. Jeanne has been awarded the Martin Luther King Jr Award by the Daniel W. Dowling American Legion for her dedicated service to the community.
URL:https://lowermerionhistory.org/event/montco-roots-family-and-property-history-through-deeds/
LOCATION:Ludington Library\, 5 S Bryn Mawr Ave.\, Bryn Mawr\, PA\, 19010\, United States
ATTACH;FMTTYPE=image/png:https://lowermerionhistory.org/wp-content/uploads/Montco-Roots-Lower-Merion-Historical-1-e1753820578370.png
ORGANIZER;CN="Ludington Library":MAILTO:ludingtonlibrary@lmls.org
END:VEVENT
BEGIN:VEVENT
DTSTART;TZID=America/New_York:20251109T140000
DTEND;TZID=America/New_York:20251109T160000
DTSTAMP:20260423T071320
CREATED:20250912T205438Z
LAST-MODIFIED:20250912T212124Z
UID:4044-1762696800-1762704000@lowermerionhistory.org
SUMMARY:Horn & Hardart: Past\, Present\, Future!
DESCRIPTION:We are partnering with the Bala Cynwyd Library for a special conversation with David Arena\, CEO of the legendary Horn & Hardart! \nJourney through 135 years of Horn & Hardart’s rich history\, from the Automat’s groundbreaking beginnings to its exciting revival.  Hear about David’s current initiatives and get an inside look at what’s ahead for the brand’s relaunch!  Complimentary coffee will be served. \nCoffee and copies of The Automat: The History\, Recipes\, and Allure of Horn & Hardart’s Masterpiece will be available for purchase. \nThe event is free\, registration is here: https://lmls.libcal.com/event/15334548
URL:https://lowermerionhistory.org/event/horn-hardart-past-present-future/
LOCATION:Bala Cynwyd Library\, 131 Old Lancaster Road\, Bala Cynwyd\, PA\, 19004\, United States
ATTACH;FMTTYPE=image/jpeg:https://lowermerionhistory.org/wp-content/uploads/Horn__Hardart_automat-e1757711102656.jpeg
ORGANIZER;CN="Bala Cynwyd Library":MAILTO:balacynwydlibrary@lmls.org
END:VEVENT
BEGIN:VEVENT
DTSTART;TZID=America/New_York:20251207T120000
DTEND;TZID=America/New_York:20251207T160000
DTSTAMP:20260423T071320
CREATED:20251112T230141Z
LAST-MODIFIED:20251112T230141Z
UID:4159-1765108800-1765123200@lowermerionhistory.org
SUMMARY:2025 Dickens Festival
DESCRIPTION:Come visit our informational table at the 2025 Dickens Festival in downtown Narberth! \nThe Festival is a free family event held each December on the streets of downtown Narberth.  It draws thousands to this little borough every year\, and it has become the fastest-growing holiday festival in the Philadelphia area.  In this Dickens-themed event\, the town of Narberth is transformed into 1840’s London\, as Ebenezer Scrooge and all the characters from A Christmas Carol roam the streets for an afternoon. \nThere is entertainment and activities for all ages\, including carriage rides\, crafts\, carolers\, period vendors and food\, dancers\, musicians\, ballet performances\, puppet shows\, ice sculptors\, a free scavenger hunt for children\, and much more. \nThis year’s Narberth Dickens Festival will be held on Sunday December 7\, 2025\, from Noon to 4pm. \nFor more information on the festival see link below: \nhttp://www.narberthonline.com/dickens-festival.html
URL:https://lowermerionhistory.org/event/2025-dickens-festival/
LOCATION:Downtown Narberth\, 221 Haverford Ave\, Narbeth\, PA\, 19072\, United States
ATTACH;FMTTYPE=image/png:https://lowermerionhistory.org/wp-content/uploads/dickens.png
END:VEVENT
BEGIN:VEVENT
DTSTART;TZID=America/New_York:20260121T190000
DTEND;TZID=America/New_York:20260121T210000
DTSTAMP:20260423T071320
CREATED:20230111T091119Z
LAST-MODIFIED:20260114T171526Z
UID:262-1769022000-1769029200@lowermerionhistory.org
SUMMARY:Wednesday Evening Public Hours
DESCRIPTION:Join us every Wednesday from 7:00 p.m.-9:00 p.m. to explore our collections and chat with board members. During your visit\, we are happy to offer on-site services\, including research assistance\, guidance on handling of documents and objects\, and use of our digital scanner and photocopier. More information about what to expect during your visit can be found here.
URL:https://lowermerionhistory.org/event/wednesday-evening-public-hours/
LOCATION:Lower Merion Historical Society\, 506 Bryn Mawr Avenue\, Bala Cynwyd\, PA\, 19004
ATTACH;FMTTYPE=image/jpeg:https://lowermerionhistory.org/wp-content/uploads/HomeEventsOpenLibrary.jpg
ORGANIZER;CN="Lower Merion Historical Society":MAILTO:info@LowerMerionHistory.org
END:VEVENT
BEGIN:VEVENT
DTSTART;TZID=America/New_York:20260212T183000
DTEND;TZID=America/New_York:20260212T193000
DTSTAMP:20260423T071320
CREATED:20260114T170852Z
LAST-MODIFIED:20260114T170852Z
UID:4235-1770921000-1770924600@lowermerionhistory.org
SUMMARY:In partnership with Natural Lands: The Legacy of the Women of Stoneleigh
DESCRIPTION:Join us for an event in partnership with Natural Lands: an unforgettable journey through time highlighting the women who lived and worked at Stoneleigh. Dating as far back as the 1680s\, historical records paint a vivid picture of the history of Stoneleigh through the years\, from its origins as a home to the Lenape people\, to its time as a Quaker settlement and active farm\, and finally as an estate to three prominent Main Line families. \nErin Betley of the Lower Merion Historical Society will present the findings of years of research into the women who shaped the story of Stoneleigh over many decades\, creating a legacy that can now be enjoyed by all as a public garden.     \nThe evening will include a presentation\, opportunities to view historic materials from the LMHS collection\, and a Q&A with Erin. This event will take place in the Main House at Stoneleigh\, and light refreshments will be served. You must register for this event here. \nPlease note: the inclement weather date for this event is Thursday\, February 19.
URL:https://lowermerionhistory.org/event/in-partnership-with-natural-lands-the-legacy-of-the-women-of-stoneleigh/
LOCATION:Stoneleigh: a natural garden\, 1829 County Line Road\, Villanova\, PA\, 19085\, United States
ATTACH;FMTTYPE=image/jpeg:https://lowermerionhistory.org/wp-content/uploads/stoneleigh.jpeg
END:VEVENT
BEGIN:VEVENT
DTSTART;TZID=America/New_York:20260322T140000
DTEND;TZID=America/New_York:20260322T150000
DTSTAMP:20260423T071320
CREATED:20260212T185213Z
LAST-MODIFIED:20260226T201833Z
UID:4278-1774188000-1774191600@lowermerionhistory.org
SUMMARY:Archive deep dive: Woman's Club of Bala Cynwyd\, with Xandra O'Neill
DESCRIPTION:Lower Merion Historical Society intern Xandra O’Neill will present a summary of her work with the newly accessioned Woman’s Club of Bala Cynwyd materials. She will share about her experience processing the collection and highlight a few of the collection’s items that tell the story of the club throughout its roughly hundred year history. Her internship was supported by a Historical & Archival Records Care grant to the Society from the Pennsylvania Historical & Museum Commission.
URL:https://lowermerionhistory.org/event/archive-deep-dive-womans-club-of-bala-cynwyd-with-xandra-oneill/
LOCATION:Lower Merion Historical Society\, 506 Bryn Mawr Avenue\, Bala Cynwyd\, PA\, 19004
ATTACH;FMTTYPE=image/jpeg:https://lowermerionhistory.org/wp-content/uploads/HomeEventsOpenLibrary.jpg
ORGANIZER;CN="Lower Merion Historical Society":MAILTO:info@LowerMerionHistory.org
END:VEVENT
BEGIN:VEVENT
DTSTART;TZID=America/New_York:20260412T100000
DTEND;TZID=America/New_York:20260412T170000
DTSTAMP:20260423T071320
CREATED:20260212T190227Z
LAST-MODIFIED:20260408T145454Z
UID:4280-1775988000-1776013200@lowermerionhistory.org
SUMMARY:POSTPONED - Tintype Portrait Day! New date TBD
DESCRIPTION:Given our successful Tintype Portrait Day last year\, we will again be hosting Victorian Photography Studio Gettysburg! \nWatch the wetplate collodion process live and take home your own tintype. Each portrait session is 20 minutes. Period costumes are not provided\, but everyone is welcome to bring their own. Pricing as follows\, paid at the time of service via cash\, card\, PayPal\, or Venmo. $10 of each portrait session will go to the Society to help preserve and maintain our photograph collection. \nYou must reserve your Portrait Session by registering here \nAll registrants will receive detailed event information by email prior to the event. If you have any difficulties with this form\, please email us at info@lowermerionhistory.org to reserve your session. \n\n\nQuarter plate (3.25 x 4.25″): $75\nHalf plate (4.45 x 5″): $85 – not recommended for more than 3 people\n5 x 7″ plate: $100 – not recommended for more than 5 people
URL:https://lowermerionhistory.org/event/tintype-portrait-day-2/
LOCATION:Lower Merion Historical Society\, 506 Bryn Mawr Avenue\, Bala Cynwyd\, PA\, 19004
ATTACH;FMTTYPE=image/jpeg:https://lowermerionhistory.org/wp-content/uploads/IMG_4080.jpg
ORGANIZER;CN="Lower Merion Historical Society":MAILTO:info@LowerMerionHistory.org
END:VEVENT
BEGIN:VEVENT
DTSTART;TZID=America/New_York:20260419T140000
DTEND;TZID=America/New_York:20260419T160000
DTSTAMP:20260423T071320
CREATED:20260114T171429Z
LAST-MODIFIED:20260114T171429Z
UID:4244-1776607200-1776614400@lowermerionhistory.org
SUMMARY:In partnership with the Bala Cynwyd Library: Discussion with Sheilah Vance\, author of Threshold to Valley Forge: The Six Days of the Gulph Mills Encampment
DESCRIPTION:In partnership with the Bala Cynwyd Library\, listen as author Sheilah Vance brings to life an untold chapter of Pennsylvania’s Revolutionary War history at a critical turning point in America’s fight for independence.\n\nSheilah’s new book\, Threshold to Valley Forge: The Six Days of the Gulph Mills Encampment\, uses an image from our collection on its cover. Register for this free program here.
URL:https://lowermerionhistory.org/event/in-partnership-with-the-bala-cynwyd-library-discussion-with-sheilah-vance-author-of-threshold-to-valley-forge-the-six-days-of-the-gulph-mills-encampment/
LOCATION:Bala Cynwyd Library\, 131 Old Lancaster Road\, Bala Cynwyd\, PA\, 19004\, United States
ATTACH;FMTTYPE=image/jpeg:https://lowermerionhistory.org/wp-content/uploads/vance.jpg
ORGANIZER;CN="Bala Cynwyd Library":MAILTO:balacynwydlibrary@lmls.org
END:VEVENT
BEGIN:VEVENT
DTSTART;TZID=America/New_York:20260426T140000
DTEND;TZID=America/New_York:20260426T153000
DTSTAMP:20260423T071320
CREATED:20260212T184341Z
LAST-MODIFIED:20260420T222908Z
UID:4275-1777212000-1777217400@lowermerionhistory.org
SUMMARY:LMHS Annual Meeting and Presentation on Lower Merion's first library\, by Denise Francis
DESCRIPTION:During our Annual Meeting\, we look forward to updating our members and our community on our progress over the past year\, and sharing our vision for the coming year. We will also dedicate a new memorial bench in honor of Presidents Emeritus Jerry Francis and Ted Goldsborough\, as well as longtime volunteer Max Buten. \nThe meeting will include a presentation by Denise Francis sharing her research on Lower Merion’s first library.
URL:https://lowermerionhistory.org/event/lmhs-annual-meeting-and-presentation-on-lower-merions-first-library-by-denise-francis/
LOCATION:Lower Merion Historical Society\, 506 Bryn Mawr Avenue\, Bala Cynwyd\, PA\, 19004
ATTACH;FMTTYPE=image/jpeg:https://lowermerionhistory.org/wp-content/uploads/academy-building.jpg
ORGANIZER;CN="Lower Merion Historical Society":MAILTO:info@LowerMerionHistory.org
END:VEVENT
BEGIN:VEVENT
DTSTART;TZID=America/New_York:20260528T183000
DTEND;TZID=America/New_York:20260528T200000
DTSTAMP:20260423T071320
CREATED:20260212T191621Z
LAST-MODIFIED:20260227T224324Z
UID:4285-1779993000-1779998400@lowermerionhistory.org
SUMMARY:Local author talk on Frank Miles Day\, Philadelphia architect
DESCRIPTION:Join local author Julia Steinberg Agnew as she shares the research behind her newly published book\, Frank Miles Day: The Life\, Works and Legacy of a Philadelphia Architect. Day designed numerous structures in Lower Merion and surrounding communities\, including designs of the outbuildings at Stoneleigh and Oakwell in Villlanova. \nMore about the book: \nPhiladelphia architect\, Frank Miles Day (1861-1918)\, left his mark on Philadelphia and beyond\, and yet\, until now\, his name is hardly known. In the late 1880s and 1890s\, alongside the firms of Cope & Stewardson and Eyre and other members of the “T Square Club\,” Day became widely known in the American architectural world for his Creative Eclectic style inspired by his study and travels abroad. In the early 1900s\, he went on to design in his own interpretation of the Collegiate Gothic style. For nearly three decades\, Day received commissions for townhomes\, country residences\, club buildings\, warehouses\, hotels and university buildings–many still standing today. \nWhen viewed together in this compilation\, his designs are evidence of his expertise in many areas–from classical architecture and brickwork to watercolor\, sketch\, horticulture\, landscape design\, and of his continued compassion and sense of social responsibility. The story of his upbringing\, his marriage to social reformist Anna Blakiston Day and his early support for civic improvement\, historic preservation\, travel abroad scholarships\, human wellness and women in the arts and sciences reveals an inspirational Philadelphian not to be forgotten. \nNow\, for the first time since the 1980 dissertation by architectural historian Patricia Keebler\, we have a comprehensive description of his life and unique architectural works that includes his sketches\, photographs of his designs\, descriptions of his clients and excerpts from his many publications. \n  \n \n 
URL:https://lowermerionhistory.org/event/local-author-talk-on-frank-miles-day-the-life-works-and-legacy-of-a-philadelphia-architect/
LOCATION:Lower Merion Historical Society\, 506 Bryn Mawr Avenue\, Bala Cynwyd\, PA\, 19004
ATTACH;FMTTYPE=image/jpeg:https://lowermerionhistory.org/wp-content/uploads/julia-scaled.jpg
ORGANIZER;CN="Lower Merion Historical Society":MAILTO:info@LowerMerionHistory.org
END:VEVENT
END:VCALENDAR