BEGIN:VCALENDAR
VERSION:2.0
PRODID:-//Welcome to the Lower Merion Historical Society - ECPv6.15.14//NONSGML v1.0//EN
CALSCALE:GREGORIAN
METHOD:PUBLISH
X-WR-CALNAME:Welcome to the Lower Merion Historical Society
X-ORIGINAL-URL:https://lowermerionhistory.org
X-WR-CALDESC:Events for Welcome to the Lower Merion Historical Society
REFRESH-INTERVAL;VALUE=DURATION:PT1H
X-Robots-Tag:noindex
X-PUBLISHED-TTL:PT1H
BEGIN:VTIMEZONE
TZID:America/New_York
BEGIN:DAYLIGHT
TZOFFSETFROM:-0500
TZOFFSETTO:-0400
TZNAME:EDT
DTSTART:20240310T070000
END:DAYLIGHT
BEGIN:STANDARD
TZOFFSETFROM:-0400
TZOFFSETTO:-0500
TZNAME:EST
DTSTART:20241103T060000
END:STANDARD
BEGIN:DAYLIGHT
TZOFFSETFROM:-0500
TZOFFSETTO:-0400
TZNAME:EDT
DTSTART:20250309T070000
END:DAYLIGHT
BEGIN:STANDARD
TZOFFSETFROM:-0400
TZOFFSETTO:-0500
TZNAME:EST
DTSTART:20251102T060000
END:STANDARD
BEGIN:DAYLIGHT
TZOFFSETFROM:-0500
TZOFFSETTO:-0400
TZNAME:EDT
DTSTART:20260308T070000
END:DAYLIGHT
BEGIN:STANDARD
TZOFFSETFROM:-0400
TZOFFSETTO:-0500
TZNAME:EST
DTSTART:20261101T060000
END:STANDARD
END:VTIMEZONE
BEGIN:VEVENT
DTSTART;TZID=America/New_York:20250704T103000
DTEND;TZID=America/New_York:20250704T120000
DTSTAMP:20260423T070905
CREATED:20250618T221342Z
LAST-MODIFIED:20250618T221649Z
UID:3881-1751625000-1751630400@lowermerionhistory.org
SUMMARY:Neighborhood Club of Bala Cynwyd Fourth of July Celebration
DESCRIPTION:For the third year in a row\, we will host an informational table at the Fourth of July Celebration organized by the Neighborhood Club of Bala Cynwyd in Bala Cynwyd Park. \nThe Annual Fourth of July Celebration\, which has been sponsored by the NCBC since 1916\, is one of the oldest and most popular Independence Day events on the Main Line. \nMore information is available from the Neighborhood Club of Bala Cynwyd.
URL:https://lowermerionhistory.org/event/neighborhood-club-of-bala-cynwyd-fourth-of-july-celebration/
LOCATION:Bala Cynwyd Park\, 398 Trevor Lane\, Bala Cynwyd\, PA\, 19004\, United States
ATTACH;FMTTYPE=image/jpeg:https://lowermerionhistory.org/wp-content/uploads/Fourth-of-July-NCBC.jpg
ORGANIZER;CN="Neighborhood Club of Bala Cynwyd":MAILTO:info@balacynwyd.org
END:VEVENT
BEGIN:VEVENT
DTSTART;TZID=America/New_York:20250627T120000
DTEND;TZID=America/New_York:20250627T130000
DTSTAMP:20260423T070905
CREATED:20250605T211412Z
LAST-MODIFIED:20250614T232725Z
UID:3840-1751025600-1751029200@lowermerionhistory.org
SUMMARY:Volunteer Open House & Information Session
DESCRIPTION:Interested in exploring how to leverage your time and expertise in support of the Lower Merion Historical Society? \nJoin our open house and information session to learn about opportunities to:\n– inventory and manage collections\n– engage in historical research\n– develop outreach and educational materials\n– support patrons who either visit the Society or send us research requests\n…and much more! \n 
URL:https://lowermerionhistory.org/event/volunteer-open-house-information-session/
LOCATION:Lower Merion Historical Society\, 506 Bryn Mawr Avenue\, Bala Cynwyd\, PA\, 19004
ATTACH;FMTTYPE=image/jpeg:https://lowermerionhistory.org/wp-content/uploads/Volunteer-scaled.jpg
ORGANIZER;CN="Lower Merion Historical Society":MAILTO:info@LowerMerionHistory.org
END:VEVENT
BEGIN:VEVENT
DTSTART;TZID=America/New_York:20250621T100000
DTEND;TZID=America/New_York:20250621T160000
DTSTAMP:20260423T070905
CREATED:20250616T211229Z
LAST-MODIFIED:20250617T131554Z
UID:3861-1750500000-1750521600@lowermerionhistory.org
SUMMARY:PALM's Juneteenth Block Party Celebration
DESCRIPTION:For the third year in a row\, we will be sponsoring an informational table at the Juneteenth Block Party Celebration organized by PALM: Center for Positive Aging of Lower Merion! Most information is available from PALM.
URL:https://lowermerionhistory.org/event/palms-juneteenth-block-party-celebration/
LOCATION:West Spring & Greenfield Avenue\, Ardmore\, Ardmore\, PA\, United States
ATTACH;FMTTYPE=image/jpeg:https://lowermerionhistory.org/wp-content/uploads/juneteeth-2022.jpg
END:VEVENT
BEGIN:VEVENT
DTSTART;TZID=America/New_York:20250504T140000
DTEND;TZID=America/New_York:20250504T153000
DTSTAMP:20260423T070905
CREATED:20250401T175816Z
LAST-MODIFIED:20250414T184144Z
UID:2460-1746367200-1746372600@lowermerionhistory.org
SUMMARY:LMHS Annual Meeting
DESCRIPTION:During our Annual Meeting\, we look forward to updating our members and our community on our progress over the past year\, and sharing our vision for the coming year under the guidance of President-Elect Linda Tasker and Vice President-Elect Scott Reynolds.
URL:https://lowermerionhistory.org/event/lmhs-annual-meeting/
LOCATION:Lower Merion Historical Society\, 506 Bryn Mawr Avenue\, Bala Cynwyd\, PA\, 19004
ATTACH;FMTTYPE=image/jpeg:https://lowermerionhistory.org/wp-content/uploads/annual-meeting.jpg
ORGANIZER;CN="Lower Merion Historical Society":MAILTO:info@LowerMerionHistory.org
END:VEVENT
BEGIN:VEVENT
DTSTART;TZID=America/New_York:20250503T120000
DTEND;TZID=America/New_York:20250503T160000
DTSTAMP:20260423T070905
CREATED:20250401T175712Z
LAST-MODIFIED:20250418T060327Z
UID:2458-1746273600-1746288000@lowermerionhistory.org
SUMMARY:NarbEarth Day
DESCRIPTION:For the third year in a row\, we will host an informational table at NarbEarth Day in Narberth Park. More information is available from the Narberth Civic Association.
URL:https://lowermerionhistory.org/event/narbearth-day/
LOCATION:Narberth Park\, 25 Windsor Ave\, Narberth\, PA\, 19072
ATTACH;FMTTYPE=image/jpeg:https://lowermerionhistory.org/wp-content/uploads/narbearth-day.jpg
ORGANIZER;CN="Narberth Civic Association":MAILTO:NarbCivic.info@gmail.com
END:VEVENT
BEGIN:VEVENT
DTSTART;TZID=America/New_York:20250309T100000
DTEND;TZID=America/New_York:20250309T170000
DTSTAMP:20260423T070905
CREATED:20230111T091159Z
LAST-MODIFIED:20250415T182508Z
UID:263-1741514400-1741539600@lowermerionhistory.org
SUMMARY:Tintype Portrait Day!
DESCRIPTION:Step back in time with the Lower Merion Historical Society’s Tintype Portrait Day!
URL:https://lowermerionhistory.org/event/tintype-portrait-day/
LOCATION:Lower Merion Historical Society\, 506 Bryn Mawr Avenue\, Bala Cynwyd\, PA\, 19004
CATEGORIES:Paid Event
ATTACH;FMTTYPE=image/jpeg:https://lowermerionhistory.org/wp-content/uploads/Pechin_tintype-resized.jpg
ORGANIZER;CN="Lower Merion Historical Society":MAILTO:info@LowerMerionHistory.org
END:VEVENT
END:VCALENDAR