BEGIN:VCALENDAR
VERSION:2.0
PRODID:-//Welcome to the Lower Merion Historical Society - ECPv6.15.14//NONSGML v1.0//EN
CALSCALE:GREGORIAN
METHOD:PUBLISH
X-WR-CALNAME:Welcome to the Lower Merion Historical Society
X-ORIGINAL-URL:https://lowermerionhistory.org
X-WR-CALDESC:Events for Welcome to the Lower Merion Historical Society
REFRESH-INTERVAL;VALUE=DURATION:PT1H
X-Robots-Tag:noindex
X-PUBLISHED-TTL:PT1H
BEGIN:VTIMEZONE
TZID:America/New_York
BEGIN:DAYLIGHT
TZOFFSETFROM:-0500
TZOFFSETTO:-0400
TZNAME:EDT
DTSTART:20240310T070000
END:DAYLIGHT
BEGIN:STANDARD
TZOFFSETFROM:-0400
TZOFFSETTO:-0500
TZNAME:EST
DTSTART:20241103T060000
END:STANDARD
BEGIN:DAYLIGHT
TZOFFSETFROM:-0500
TZOFFSETTO:-0400
TZNAME:EDT
DTSTART:20250309T070000
END:DAYLIGHT
BEGIN:STANDARD
TZOFFSETFROM:-0400
TZOFFSETTO:-0500
TZNAME:EST
DTSTART:20251102T060000
END:STANDARD
BEGIN:DAYLIGHT
TZOFFSETFROM:-0500
TZOFFSETTO:-0400
TZNAME:EDT
DTSTART:20260308T070000
END:DAYLIGHT
BEGIN:STANDARD
TZOFFSETFROM:-0400
TZOFFSETTO:-0500
TZNAME:EST
DTSTART:20261101T060000
END:STANDARD
END:VTIMEZONE
BEGIN:VEVENT
DTSTART;TZID=America/New_York:20250309T100000
DTEND;TZID=America/New_York:20250309T170000
DTSTAMP:20260423T152543
CREATED:20230111T091159Z
LAST-MODIFIED:20250415T182508Z
UID:263-1741514400-1741539600@lowermerionhistory.org
SUMMARY:Tintype Portrait Day!
DESCRIPTION:Step back in time with the Lower Merion Historical Society’s Tintype Portrait Day!
URL:https://lowermerionhistory.org/event/tintype-portrait-day/
LOCATION:Lower Merion Historical Society\, 506 Bryn Mawr Avenue\, Bala Cynwyd\, PA\, 19004
CATEGORIES:Paid Event
ATTACH;FMTTYPE=image/jpeg:https://lowermerionhistory.org/wp-content/uploads/Pechin_tintype-resized.jpg
ORGANIZER;CN="Lower Merion Historical Society":MAILTO:info@LowerMerionHistory.org
END:VEVENT
END:VCALENDAR